View In:
ArcGIS JavaScript
ArcGIS Online Map Viewer
ArcGIS Earth
ArcGIS Pro
Service Description: The layers of administrative boundaries were created while dividing the country into Enumeration Area for the 2012 Population and housing census.
Downloaded from RNRA Geoportal on 18.1.2018
Map Name: Administrative_Boundaries
Legend
All Layers and Tables
Layers:
Description: The layers of administrative boundaries were created while dividing the country into Enumeration Area for the 2012 Population and housing census.
Downloaded from RNRA Geoportal on 18.1.2018
Service Item Id: e48dd7c0ae8341a4959d3c0715e8974b
Copyright Text: RLMUA/RNRA 2012
Spatial Reference:
102100
(3857)
Single Fused Map Cache: true
Tile Info:
- Height: 256
- Width: 256
- DPI: 96
-
Levels of Detail: 24
-
Level ID: 1
[ Start Tile, End Tile ]
- Resolution: 78271.5169639999
- Scale: 2.95828763795777E8
-
Level ID: 2
[ Start Tile, End Tile ]
- Resolution: 39135.7584820001
- Scale: 1.47914381897889E8
-
Level ID: 3
[ Start Tile, End Tile ]
- Resolution: 19567.8792409999
- Scale: 7.3957190948944E7
-
Level ID: 4
[ Start Tile, End Tile ]
- Resolution: 9783.93962049996
- Scale: 3.6978595474472E7
-
Level ID: 5
[ Start Tile, End Tile ]
- Resolution: 4891.96981024998
- Scale: 1.8489297737236E7
- Format: PNG
- Compression Quality: 0.0
- Origin: X: -2.0037508342787E7
Y: 2.0037508342787E7
- Spatial Reference: 102100
(3857)
Initial Extent:
XMin: 3346494.7666693316
YMin: -222668.5186252191
XMax: 3355684.3061691476
YMax: -213995.8886403761
Spatial Reference: 102100
Full Extent:
XMin: 3212833.2887376505
YMin: -316323.34182341857
XMax: 3439800.9093309157
YMax: -116557.02017300799
Spatial Reference: 102100
Units: esriMeters
Supported Image Format Types: PNG32,PNG24,PNG,JPG,DIB,TIFF,EMF,PS,PDF,GIF,SVG,SVGZ,BMP
Document Info:
Title: Administrative_Boundaries
Author:
Comments: <DIV STYLE="text-align:Left;font-size:12pt"><P STYLE="margin:0 0 0 0;"><SPAN>The layers of administrative boundaries were created while dividing the country into Enumeration Area for the 2012 Population and housing census. </SPAN></P><P STYLE="margin:0 0 0 0;"><SPAN /></P><P STYLE="margin:0 0 0 0;"><SPAN>Downloaded from </SPAN><SPAN>RNRA Geoportal </SPAN><SPAN>on 18.1.2018</SPAN></P><P STYLE="font-weight:bold;margin:7 0 7 0;"><SPAN /></P><P STYLE="margin:0 0 0 0;"><SPAN /></P></DIV>
Subject: The layers of administrative boundaries were created while dividing the country into Enumeration Area for the 2012 Population and housing census.
Category:
Keywords: administrative
AntialiasingMode: Fast
TextAntialiasingMode: Force
Supports Dynamic Layers: false
MaxRecordCount: 1000
MaxImageHeight: 4096
MaxImageWidth: 4096
Supported Query Formats: JSON, geoJSON, PBF
Supports Query Data Elements: true
Min Scale: 577790.554289
Max Scale: 2256.994353
Supports Datum Transformation: true
Child Resources:
Info
Supported Operations:
QueryLegends
EstimateExportTilesSize
ExportTiles
Return Updates